BEGIN:VCALENDAR
VERSION:2.0
BEGIN:VEVENT
CATEGORIES:Conferences &amp; Lectures,Entity, Research,GRS HDR Events,Locations,24-G02
DESCRIPTION:
DTSTAMP:20260420T231131
DTSTART:20260506T103000
DTEND:20260506T120000
LOCATION:24-G02
SUMMARY;LANGUAGE=en-us:Systematic Reviews - Foundations (HDR Workshop)
UID:35c61bc7508afa08748a1467d209366b@www.uow.edu.au
END:VEVENT
END:VCALENDAR
















