BEGIN:VCALENDAR
VERSION:2.0
BEGIN:VEVENT
CATEGORIES:Conferences &amp; Lectures,Entity, Research,GRS HDR Events,Locations,24-G02
DESCRIPTION:
DTSTAMP:20260420T231131
DTSTART:20260513T103000
DTEND:20260513T120000
LOCATION:24-G02
SUMMARY;LANGUAGE=en-us:Quantitative Methods: Introductory Statistics and Data Analysis (HDR Workshop)
UID:8ec51e60b48299d5ae01ed7269b2e0be@www.uow.edu.au
END:VEVENT
END:VCALENDAR
















