BEGIN:VCALENDAR
VERSION:2.0
BEGIN:VEVENT
CATEGORIES:Entity, Research,Locations,UOW Science Space
DESCRIPTION:
DTSTAMP:20260420T121109
DTSTART:20250812T170000
DTEND:20250812T190000
LOCATION:UOW Science Space
SUMMARY;LANGUAGE=en-us:The Antarctic: A Global Challenge with Local Implications
UID:8e26c809b81931483d16b3dd5f912b9f@www.uow.edu.au
END:VEVENT
END:VCALENDAR
















