BEGIN:VCALENDAR
VERSION:2.0
BEGIN:VEVENT
CATEGORIES:Conferences &amp; Lectures,Faculty, Faculty of Science, Medicine and Health,School, School of Medicine,Locations,UOW Shoalhaven
DESCRIPTION:
DTSTAMP:20260419T223553
DTSTART:20250314T000000
DTEND:20250315T000000
LOCATION:UOW Shoalhaven
SUMMARY;LANGUAGE=en-us:UOW Rural Health Research Conference 2025
UID:db8b2eecf1362b8d0eb351b99950e8b1@www.uow.edu.au
END:VEVENT
END:VCALENDAR
















