BEGIN:VCALENDAR
VERSION:2.0
BEGIN:VEVENT
CATEGORIES:Faculty, Faculty of Business and Law,Future Student Events,Information Sessions,School, School of Business,School, Sydney Business School,Locations,Online via Zoom
DESCRIPTION:
DTSTAMP:20260421T195443
DTSTART:20241118T180000
DTEND:20241118T190000
LOCATION:Online via Zoom
SUMMARY;LANGUAGE=en-us:Postgraduate Information Series: Analytics of Medical Imaging Data
UID:23a0fccbac809d999a751d242c71c9f0@www.uow.edu.au
END:VEVENT
END:VCALENDAR
















