BEGIN:VCALENDAR
VERSION:2.0
BEGIN:VEVENT
CATEGORIES:Entity, Research,Faculty, Faculty of Science, Medicine and Health,Locations,Hybrid event, online and in-person (LKM Theatre)
DESCRIPTION:
DTSTAMP:20260420T174920
DTSTART:20241017T173000
DTEND:20241017T193000
LOCATION:Hybrid event, online and in-person (LKM Theatre)
SUMMARY;LANGUAGE=en-us:Meet the researchers - Climate change and coastal impacts
UID:8a3e8c58681fca6dde6a6545ff724396@www.uow.edu.au
END:VEVENT
END:VCALENDAR
















