BEGIN:VCALENDAR
VERSION:2.0
BEGIN:VEVENT
CATEGORIES:Climate Week,Community Events,Faculty, Faculty of Business and Law,School, School of Business,Locations,Online and in-person (21-G08) 
DESCRIPTION:
DTSTAMP:20260420T174952
DTSTART:20241017T120000
DTEND:20241017T133000
LOCATION:Online and in-person (21-G08) 
SUMMARY;LANGUAGE=en-us:Is it possible to reduce carbon emissions and generate economic growth?
UID:76789930f60813f7886a5614b4fb0d9b@www.uow.edu.au
END:VEVENT
END:VCALENDAR
















