BEGIN:VCALENDAR
VERSION:2.0
BEGIN:VEVENT
CATEGORIES:Exhibitions &amp; Performances,Faculty, Faculty of the Arts, Social Sciences and Humanities,School, School of the Arts, English and Media,Locations,Building 29 Theatre G02
DESCRIPTION:
DTSTAMP:20260420T174823
DTSTART:20241017T190000
DTEND:20241017T203000
LOCATION:Building 29 Theatre G02
SUMMARY;LANGUAGE=en-us:Scenes from a Climate Era
UID:8b3c13248b9c45bd07149a4cacca0501@www.uow.edu.au
END:VEVENT
END:VCALENDAR
















